BEGIN:VCALENDAR
PRODID:-//eluceo/ical//2.0/EN
VERSION:2.0
CALSCALE:GREGORIAN
BEGIN:VEVENT
UID:0ff59de1b0d0738e332999d66a5c4010
DTSTAMP:20260423T052550Z
SUMMARY:[männliche E-Jugend Runde] CVJM Kusterdingen e.V.  - CVJM HB Dußl
 ingen-Gomaringen 1
URL:https://www.eichenkreuzliga.de/handball/game/id/11471
DTSTART:20210327T130000
DTEND:20210327T140000
LOCATION:Härtensporthalle\, 72127 Kusterdingen
END:VEVENT
END:VCALENDAR
