BEGIN:VCALENDAR
PRODID:-//eluceo/ical//2.0/EN
VERSION:2.0
CALSCALE:GREGORIAN
BEGIN:VEVENT
UID:ca2b81ac6905c2a19852e18793dc5066
DTSTAMP:20260423T052452Z
SUMMARY:[männliche E-Jugend Runde] CVJM Kusterdingen e.V.  - CVJM HB Dußl
 ingen-Gomaringen 2 A.K.
URL:https://www.eichenkreuzliga.de/handball/game/id/11472
DTSTART:20210327T160000
DTEND:20210327T170000
LOCATION:Härtensporthalle\, 72127 Kusterdingen
END:VEVENT
END:VCALENDAR
