BEGIN:VCALENDAR
PRODID:-//eluceo/ical//2.0/EN
VERSION:2.0
CALSCALE:GREGORIAN
BEGIN:VEVENT
UID:ad9c789d4848b11c7b000b2319f0d734
DTSTAMP:20260423T052405Z
SUMMARY:[männliche E-Jugend Runde] CVJM HB Dußlingen-Gomaringen 2 A.K. - 
 CVJM Möglingen 
URL:https://www.eichenkreuzliga.de/handball/game/id/11474
DTSTART:20210327T140000
DTEND:20210327T150000
LOCATION:Härtensporthalle\, 72127 Kusterdingen
END:VEVENT
END:VCALENDAR
