BEGIN:VCALENDAR
PRODID:-//eluceo/ical//2.0/EN
VERSION:2.0
CALSCALE:GREGORIAN
BEGIN:VEVENT
UID:6fef1ec234da2fdc1d3270a0697f8722
DTSTAMP:20260423T064641Z
SUMMARY:[männliche E-Jugend Runde] CVJM Hagelloch - Kusterdingen 1 - EK K
 öngen 
URL:https://www.eichenkreuzliga.de/handball/game/id/11476
DTSTART:20210313T153000
DTEND:20210313T163000
LOCATION:Strohgäuhalle\, 71229 Höfingen
END:VEVENT
END:VCALENDAR
