BEGIN:VCALENDAR
PRODID:-//eluceo/ical//2.0/EN
VERSION:2.0
CALSCALE:GREGORIAN
BEGIN:VEVENT
UID:6696589d620d475400ab3e3f49b830e6
DTSTAMP:20260423T052406Z
SUMMARY:[männliche E-Jugend Runde] EK Höfingen  - CVJM Hagelloch - Kuster
 dingen 1
URL:https://www.eichenkreuzliga.de/handball/game/id/11477
DTSTART:20210313T163000
DTEND:20210313T173000
LOCATION:Strohgäuhalle\, 71229 Höfingen
END:VEVENT
END:VCALENDAR
