BEGIN:VCALENDAR
PRODID:-//eluceo/ical//2.0/EN
VERSION:2.0
CALSCALE:GREGORIAN
BEGIN:VEVENT
UID:f3a8d0d4bf7788775b3a33fa40ce7947
DTSTAMP:20260423T052550Z
SUMMARY:[männliche E-Jugend Runde] CVJM Plochingen a.K. - CVJM Kusterdinge
 n e.V. 
URL:https://www.eichenkreuzliga.de/handball/game/id/11479
DTSTART:20210313T130000
DTEND:20210313T140000
LOCATION:Gymnasiumsporthalle\, 73207 Plochingen
END:VEVENT
END:VCALENDAR
