BEGIN:VCALENDAR
PRODID:-//eluceo/ical//2.0/EN
VERSION:2.0
CALSCALE:GREGORIAN
BEGIN:VEVENT
UID:19f9d6d73f3eeb70de8fc1e9e14b75bd
DTSTAMP:20260423T064542Z
SUMMARY:[männliche E-Jugend Runde] CVJM Möglingen  - CVJM SG Mössingen/B
 elsen 
URL:https://www.eichenkreuzliga.de/handball/game/id/11480
DTSTART:20210313T150000
DTEND:20210313T160000
LOCATION:Gymnasiumsporthalle\, 73207 Plochingen
END:VEVENT
END:VCALENDAR
