BEGIN:VCALENDAR
PRODID:-//eluceo/ical//2.0/EN
VERSION:2.0
CALSCALE:GREGORIAN
BEGIN:VEVENT
UID:6ff8842a8fee95b27e927547960983bf
DTSTAMP:20260423T052329Z
SUMMARY:[männliche E-Jugend Runde] CVJM Plochingen a.K. - CVJM Möglingen 
URL:https://www.eichenkreuzliga.de/handball/game/id/11481
DTSTART:20210313T170000
DTEND:20210313T180000
LOCATION:Gymnasiumsporthalle\, 73207 Plochingen
END:VEVENT
END:VCALENDAR
