BEGIN:VCALENDAR
PRODID:-//eluceo/ical//2.0/EN
VERSION:2.0
CALSCALE:GREGORIAN
BEGIN:VEVENT
UID:3be68c92fcf9b4f174ae361ca737e7e3
DTSTAMP:20260423T052329Z
SUMMARY:[männliche E-Jugend Runde] CVJM Kusterdingen e.V.  - CVJM SG Möss
 ingen/Belsen 
URL:https://www.eichenkreuzliga.de/handball/game/id/11482
DTSTART:20210313T160000
DTEND:20210313T170000
LOCATION:Gymnasiumsporthalle\, 73207 Plochingen
END:VEVENT
END:VCALENDAR
