BEGIN:VCALENDAR
PRODID:-//eluceo/ical//2.0/EN
VERSION:2.0
CALSCALE:GREGORIAN
BEGIN:VEVENT
UID:2450995106a1637924dabd1ead2ec76e
DTSTAMP:20260423T052627Z
SUMMARY:[männliche E-Jugend Runde] CVJM Kusterdingen e.V.  - CVJM Mögling
 en 
URL:https://www.eichenkreuzliga.de/handball/game/id/11483
DTSTART:20210313T140000
DTEND:20210313T150000
LOCATION:Gymnasiumsporthalle\, 73207 Plochingen
END:VEVENT
END:VCALENDAR
