BEGIN:VCALENDAR
PRODID:-//eluceo/ical//2.0/EN
VERSION:2.0
CALSCALE:GREGORIAN
BEGIN:VEVENT
UID:7d3fe51cda5c1532a6b6c7c0b8657a97
DTSTAMP:20260423T064516Z
SUMMARY:[männliche E-Jugend Runde] CVJM Hülben  - EJW Münchingen 
URL:https://www.eichenkreuzliga.de/handball/game/id/11484
DTSTART:20210313T145000
DTEND:20210313T155000
LOCATION:Sporthalle\, 72138 Kirchentellinsfurt
END:VEVENT
END:VCALENDAR

END:VCALENDAR
ALENDAR
