BEGIN:VCALENDAR
PRODID:-//eluceo/ical//2.0/EN
VERSION:2.0
CALSCALE:GREGORIAN
BEGIN:VEVENT
UID:cf7007f3ddd563ec766f37214fbea82e
DTSTAMP:20260423T051014Z
SUMMARY:[männliche E-Jugend Runde] CVJM Kirchentellinsfurt  - EJW Münchin
 gen 
URL:https://www.eichenkreuzliga.de/handball/game/id/11486
DTSTART:20210313T154000
DTEND:20210313T164000
LOCATION:Sporthalle\, 72138 Kirchentellinsfurt
END:VEVENT
END:VCALENDAR
