BEGIN:VCALENDAR
PRODID:-//eluceo/ical//2.0/EN
VERSION:2.0
CALSCALE:GREGORIAN
BEGIN:VEVENT
UID:22ab17c140ef0f47b33b84fca06fccaf
DTSTAMP:20260423T051030Z
SUMMARY:[männliche E-Jugend Runde] CVJM Hülben  - EK Bernhausen 1
URL:https://www.eichenkreuzliga.de/handball/game/id/11487
DTSTART:20210313T135000
DTEND:20210313T145000
LOCATION:Sporthalle\, 72138 Kirchentellinsfurt
END:VEVENT
END:VCALENDAR
