BEGIN:VCALENDAR
PRODID:-//eluceo/ical//2.0/EN
VERSION:2.0
CALSCALE:GREGORIAN
BEGIN:VEVENT
UID:98b28a6d52cdea4b3961b4f14c90fc09
DTSTAMP:20260423T052550Z
SUMMARY:[männliche E-Jugend Runde] CVJM  Walddorfhäslach  - CVJM HB Dußl
 ingen-Gomaringen 2 A.K.
URL:https://www.eichenkreuzliga.de/handball/game/id/11492
DTSTART:20210313T134000
DTEND:20210313T144000
LOCATION:Hönisch Sporthalle\, 72144 Dusslingen
END:VEVENT
END:VCALENDAR
