BEGIN:VCALENDAR
PRODID:-//eluceo/ical//2.0/EN
VERSION:2.0
CALSCALE:GREGORIAN
BEGIN:VEVENT
UID:c63d50e2bfacf294ddd152d1b05c4ea6
DTSTAMP:20260423T064712Z
SUMMARY:[männliche E-Jugend Runde] CVJM HB Dußlingen-Gomaringen 2 A.K. - 
 CVJM HB Dußlingen-Gomaringen 1
URL:https://www.eichenkreuzliga.de/handball/game/id/11496
DTSTART:20201107T164000
DTEND:20201107T174000
LOCATION:Hönisch Sporthalle\, 72144 Dusslingen
END:VEVENT
END:VCALENDAR
