BEGIN:VCALENDAR
PRODID:-//eluceo/ical//2.0/EN
VERSION:2.0
CALSCALE:GREGORIAN
BEGIN:VEVENT
UID:cb0bb1712eb08711f4f6e231d0cf40a8
DTSTAMP:20260423T052626Z
SUMMARY:[männliche E-Jugend Runde] CVJM Hülben  - CVJM HB Dußlingen-Goma
 ringen 1
URL:https://www.eichenkreuzliga.de/handball/game/id/11497
DTSTART:20210207T130000
DTEND:20210207T140000
LOCATION:Hönisch Sporthalle\, 72144 Dusslingen
END:VEVENT
END:VCALENDAR
