BEGIN:VCALENDAR
PRODID:-//eluceo/ical//2.0/EN
VERSION:2.0
CALSCALE:GREGORIAN
BEGIN:VEVENT
UID:d05ff8e9d88d1ed6b7d658bd92882e73
DTSTAMP:20260423T064748Z
SUMMARY:[männliche E-Jugend Runde] EK Köngen  - EK Höfingen 
URL:https://www.eichenkreuzliga.de/handball/game/id/11505
DTSTART:20210124T150000
DTEND:20210124T160000
LOCATION:Burgschulhalle\, 73257 Köngen
END:VEVENT
END:VCALENDAR
