BEGIN:VCALENDAR
PRODID:-//eluceo/ical//2.0/EN
VERSION:2.0
CALSCALE:GREGORIAN
BEGIN:VEVENT
UID:932e813a45723e4e078e49c5761880f8
DTSTAMP:20260423T052627Z
SUMMARY:[männliche E-Jugend Runde] CVJM  Walddorfhäslach  - CVJM Ploching
 en a.K.
URL:https://www.eichenkreuzliga.de/handball/game/id/11514
DTSTART:20201121T120000
DTEND:20201121T130000
LOCATION:Ballspielhalle\, 72141 Walddorfhäslach
END:VEVENT
END:VCALENDAR
