BEGIN:VCALENDAR
PRODID:-//eluceo/ical//2.0/EN
VERSION:2.0
CALSCALE:GREGORIAN
BEGIN:VEVENT
UID:d2ab7f0f49664709b24b8e043be2c445
DTSTAMP:20260423T052432Z
SUMMARY:[männliche E-Jugend Runde] CVJM  Walddorfhäslach  - CVJM SG Möss
 ingen/Belsen 
URL:https://www.eichenkreuzliga.de/handball/game/id/11515
DTSTART:20201121T144000
DTEND:20201121T154000
LOCATION:Ballspielhalle\, 72141 Walddorfhäslach
END:VEVENT
END:VCALENDAR
