BEGIN:VCALENDAR
PRODID:-//eluceo/ical//2.0/EN
VERSION:2.0
CALSCALE:GREGORIAN
BEGIN:VEVENT
UID:1b89a241203e175576753bc0f189e1e3
DTSTAMP:20260423T064533Z
SUMMARY:[männliche E-Jugend Runde] EJW Münchingen  - CVJM  Walddorfhäsla
 ch 
URL:https://www.eichenkreuzliga.de/handball/game/id/11518
DTSTART:20210207T154000
DTEND:20210207T164000
LOCATION:Sporthalle Münchingen\, 70825 Korntal-Münchingen
END:VEVENT
END:VCALENDAR
