BEGIN:VCALENDAR
PRODID:-//eluceo/ical//2.0/EN
VERSION:2.0
CALSCALE:GREGORIAN
BEGIN:VEVENT
UID:75b4f16c41bdbd6dba5d44d695ef13a9
DTSTAMP:20260423T064712Z
SUMMARY:[männliche E-Jugend Runde] CVJM Enzweihingen  - EK Bernhausen 1
URL:https://www.eichenkreuzliga.de/handball/game/id/11521
DTSTART:20210207T135000
DTEND:20210207T145000
LOCATION:Sporthalle Münchingen\, 70825 Korntal-Münchingen
END:VEVENT
END:VCALENDAR
