BEGIN:VCALENDAR
PRODID:-//eluceo/ical//2.0/EN
VERSION:2.0
CALSCALE:GREGORIAN
BEGIN:VEVENT
UID:101a7b3aad373cb31f47ff7f6003c0b5
DTSTAMP:20260423T051014Z
SUMMARY:[männliche E-Jugend Runde] CVJM Kusterdingen e.V.  - EK Höfingen 
URL:https://www.eichenkreuzliga.de/handball/game/id/11522
DTSTART:20210206T130000
DTEND:20210206T140000
LOCATION:Stadionhalle\, 71696 Möglingen
END:VEVENT
END:VCALENDAR
