BEGIN:VCALENDAR
PRODID:-//eluceo/ical//2.0/EN
VERSION:2.0
CALSCALE:GREGORIAN
BEGIN:VEVENT
UID:5f93bcbd00fea28651d4f05ea3135d91
DTSTAMP:20260423T033037Z
SUMMARY:[männliche E-Jugend Runde] CVJM Kusterdingen e.V.  - EK Köngen 
URL:https://www.eichenkreuzliga.de/handball/game/id/11523
DTSTART:20210206T140000
DTEND:20210206T150000
LOCATION:Stadionhalle\, 71696 Möglingen
END:VEVENT
END:VCALENDAR
