BEGIN:VCALENDAR
PRODID:-//eluceo/ical//2.0/EN
VERSION:2.0
CALSCALE:GREGORIAN
BEGIN:VEVENT
UID:fab7e188232a7895f48d06704ce9c980
DTSTAMP:20260423T033124Z
SUMMARY:[männliche E-Jugend Runde] CVJM Möglingen  - EK Höfingen 
URL:https://www.eichenkreuzliga.de/handball/game/id/11524
DTSTART:20210206T120000
DTEND:20210206T130000
LOCATION:Stadionhalle\, 71696 Möglingen
END:VEVENT
END:VCALENDAR
