BEGIN:VCALENDAR
PRODID:-//eluceo/ical//2.0/EN
VERSION:2.0
CALSCALE:GREGORIAN
BEGIN:VEVENT
UID:446c77a36c28ccfdc7b5d6b0be0bd034
DTSTAMP:20260423T052405Z
SUMMARY:[männliche E-Jugend Runde] CVJM HB Dußlingen-Gomaringen 1 - CVJM 
 Enzweihingen 
URL:https://www.eichenkreuzliga.de/handball/game/id/11525
DTSTART:20210313T154000
DTEND:20210313T164000
LOCATION:Hönisch Sporthalle\, 72144 Dusslingen
END:VEVENT
END:VCALENDAR
