BEGIN:VCALENDAR
PRODID:-//eluceo/ical//2.0/EN
VERSION:2.0
CALSCALE:GREGORIAN
BEGIN:VEVENT
UID:81f9542232150da905ce2ce014d1f7a3
DTSTAMP:20260423T064533Z
SUMMARY:[männliche E-Jugend Runde] CVJM HB Dußlingen-Gomaringen 2 A.K. - 
 CVJM Enzweihingen 
URL:https://www.eichenkreuzliga.de/handball/game/id/11526
DTSTART:20210313T145000
DTEND:20210313T155000
LOCATION:Hönisch Sporthalle\, 72144 Dusslingen
END:VEVENT
END:VCALENDAR
