BEGIN:VCALENDAR
PRODID:-//eluceo/ical//2.0/EN
VERSION:2.0
CALSCALE:GREGORIAN
BEGIN:VEVENT
UID:b64c01d093289666e9d99d2b9569a7aa
DTSTAMP:20260422T224713Z
SUMMARY:[männliche D-Jugend Runde] CVJM HB Dußlingen-Gomaringen 1 - CVJM 
 Fellbach 
URL:https://www.eichenkreuzliga.de/handball/game/id/11529
DTSTART:20201108T144000
DTEND:20201108T154000
LOCATION:Hönisch Sporthalle\, 72144 Dusslingen
END:VEVENT
END:VCALENDAR
