BEGIN:VCALENDAR
PRODID:-//eluceo/ical//2.0/EN
VERSION:2.0
CALSCALE:GREGORIAN
BEGIN:VEVENT
UID:3966f8c5ff8a994790d90df431a7cf27
DTSTAMP:20260422T224607Z
SUMMARY:[männliche D-Jugend Runde] CVJM HB Dußlingen-Gomaringen 2 a.K. - 
 CVJM Fellbach 
URL:https://www.eichenkreuzliga.de/handball/game/id/11530
DTSTART:20201108T154500
DTEND:20201108T164500
LOCATION:Hönisch Sporthalle\, 72144 Dusslingen
END:VEVENT
END:VCALENDAR
