BEGIN:VCALENDAR
PRODID:-//eluceo/ical//2.0/EN
VERSION:2.0
CALSCALE:GREGORIAN
BEGIN:VEVENT
UID:b532a147865d0cadf1dc65fe69c3a975
DTSTAMP:20260422T224554Z
SUMMARY:[männliche D-Jugend Runde] CVJM Plochingen  - EK Köngen 
URL:https://www.eichenkreuzliga.de/handball/game/id/11532
DTSTART:20201108T130000
DTEND:20201108T140000
LOCATION:Gymnasiumsporthalle\, 73207 Plochingen
END:VEVENT
END:VCALENDAR
