BEGIN:VCALENDAR
PRODID:-//eluceo/ical//2.0/EN
VERSION:2.0
CALSCALE:GREGORIAN
BEGIN:VEVENT
UID:c2ca9a1ea974212fdeba57eb1ad05b2d
DTSTAMP:20260422T224606Z
SUMMARY:[männliche D-Jugend Runde] CVJM Plochingen  - EJW Münchingen 
URL:https://www.eichenkreuzliga.de/handball/game/id/11534
DTSTART:20201108T160000
DTEND:20201108T170000
LOCATION:Gymnasiumsporthalle\, 73207 Plochingen
END:VEVENT
END:VCALENDAR
