BEGIN:VCALENDAR
PRODID:-//eluceo/ical//2.0/EN
VERSION:2.0
CALSCALE:GREGORIAN
BEGIN:VEVENT
UID:a7047ad13168e90843e6a514f29db079
DTSTAMP:20260422T224608Z
SUMMARY:[männliche D-Jugend Runde] EK Bernhausen 1 - CVJM HB Dußlingen-Go
 maringen 1
URL:https://www.eichenkreuzliga.de/handball/game/id/11536
DTSTART:20201128T104500
DTEND:20201128T114500
LOCATION:Elisabeth-Selbert-Gymnasium Halle\, 70794 Bernhausen
END:VEVENT
END:VCALENDAR
