BEGIN:VCALENDAR
PRODID:-//eluceo/ical//2.0/EN
VERSION:2.0
CALSCALE:GREGORIAN
BEGIN:VEVENT
UID:b3743dd4a211f61669986b0f70e1ea05
DTSTAMP:20260423T001524Z
SUMMARY:[männliche D-Jugend Runde] CVJM Möglingen  - CVJM Fellbach 
URL:https://www.eichenkreuzliga.de/handball/game/id/11540
DTSTART:20201128T110000
DTEND:20201128T120000
LOCATION:Stadionhalle\, 71696 Möglingen
END:VEVENT
END:VCALENDAR
