BEGIN:VCALENDAR
PRODID:-//eluceo/ical//2.0/EN
VERSION:2.0
CALSCALE:GREGORIAN
BEGIN:VEVENT
UID:dcbe4b9280fa82f59ab1d034e37c7fe3
DTSTAMP:20260423T001501Z
SUMMARY:[männliche D-Jugend Runde] CVJM Fellbach  - CVJM Plochingen 
URL:https://www.eichenkreuzliga.de/handball/game/id/11541
DTSTART:20201128T120000
DTEND:20201128T130000
LOCATION:Stadionhalle\, 71696 Möglingen
END:VEVENT
END:VCALENDAR
