BEGIN:VCALENDAR
PRODID:-//eluceo/ical//2.0/EN
VERSION:2.0
CALSCALE:GREGORIAN
BEGIN:VEVENT
UID:108c43a30d8e0af70f7fa868eeb901f1
DTSTAMP:20260423T001950Z
SUMMARY:[männliche D-Jugend Runde] CVJM HB Dußlingen-Gomaringen 1 - CVJM 
 Möglingen 
URL:https://www.eichenkreuzliga.de/handball/game/id/11553
DTSTART:20210117T155500
DTEND:20210117T165500
LOCATION:Hönisch Sporthalle\, 72144 Dusslingen
END:VEVENT
END:VCALENDAR
