BEGIN:VCALENDAR
PRODID:-//eluceo/ical//2.0/EN
VERSION:2.0
CALSCALE:GREGORIAN
BEGIN:VEVENT
UID:b8414b816b79d89e3caf7f99f6cfb4e0
DTSTAMP:20260422T224908Z
SUMMARY:[männliche D-Jugend Runde] CVJM HB Dußlingen-Gomaringen 2 a.K. - 
 CVJM Möglingen 
URL:https://www.eichenkreuzliga.de/handball/game/id/11555
DTSTART:20210117T150000
DTEND:20210117T160000
LOCATION:Hönisch Sporthalle\, 72144 Dusslingen
END:VEVENT
END:VCALENDAR
