BEGIN:VCALENDAR
PRODID:-//eluceo/ical//2.0/EN
VERSION:2.0
CALSCALE:GREGORIAN
BEGIN:VEVENT
UID:487a5e10ccdd58310dc338072a86812b
DTSTAMP:20260422T224621Z
SUMMARY:[männliche D-Jugend Runde] CVJM Fellbach  - EK Köngen 
URL:https://www.eichenkreuzliga.de/handball/game/id/11560
DTSTART:20210131T120000
DTEND:20210131T130000
LOCATION:Zeppelinhalle\, 70734 Fellbach
END:VEVENT
END:VCALENDAR
