BEGIN:VCALENDAR
PRODID:-//eluceo/ical//2.0/EN
VERSION:2.0
CALSCALE:GREGORIAN
BEGIN:VEVENT
UID:b17ac0c4c81afcfdb36a4d585965d751
DTSTAMP:20260422T224812Z
SUMMARY:[männliche D-Jugend Runde] CVJM Plochingen  - CVJM Möglingen 
URL:https://www.eichenkreuzliga.de/handball/game/id/11561
DTSTART:20210130T120000
DTEND:20210130T130000
LOCATION:Elisabeth-Selbert-Gymnasium Halle\, 70794 Bernhausen
END:VEVENT
END:VCALENDAR
