BEGIN:VCALENDAR
PRODID:-//eluceo/ical//2.0/EN
VERSION:2.0
CALSCALE:GREGORIAN
BEGIN:VEVENT
UID:2f3cb8900286284764c9e3126461d2ed
DTSTAMP:20260423T001728Z
SUMMARY:[männliche D-Jugend Runde] EK Bernhausen 1 - CVJM Plochingen 
URL:https://www.eichenkreuzliga.de/handball/game/id/11563
DTSTART:20210130T110000
DTEND:20210130T120000
LOCATION:Elisabeth-Selbert-Gymnasium Halle\, 70794 Bernhausen
END:VEVENT
END:VCALENDAR
