BEGIN:VCALENDAR
PRODID:-//eluceo/ical//2.0/EN
VERSION:2.0
CALSCALE:GREGORIAN
BEGIN:VEVENT
UID:922004b732f05abf7d3934820c3fe536
DTSTAMP:20260422T224903Z
SUMMARY:[männliche D-Jugend Runde] CVJM  Walddorfhäslach  - CVJM HB Dußl
 ingen-Gomaringen 2 a.K.
URL:https://www.eichenkreuzliga.de/handball/game/id/11574
DTSTART:20201220T150000
DTEND:20201220T160000
LOCATION:Ballspielhalle\, 72141 Walddorfhäslach
END:VEVENT
END:VCALENDAR
