BEGIN:VCALENDAR
PRODID:-//eluceo/ical//2.0/EN
VERSION:2.0
CALSCALE:GREGORIAN
BEGIN:VEVENT
UID:f5a5e4c7890e0ff31902bb92763ce0a8
DTSTAMP:20260422T224555Z
SUMMARY:[männliche D-Jugend Runde] CVJM HB Dußlingen-Gomaringen 2 a.K. - 
 CVJM HB Dußlingen-Gomaringen 1
URL:https://www.eichenkreuzliga.de/handball/game/id/11575
DTSTART:20201220T140000
DTEND:20201220T150000
LOCATION:Ballspielhalle\, 72141 Walddorfhäslach
END:VEVENT
END:VCALENDAR
