BEGIN:VCALENDAR
PRODID:-//eluceo/ical//2.0/EN
VERSION:2.0
CALSCALE:GREGORIAN
BEGIN:VEVENT
UID:a604d088a20f264a61545d0d8504205f
DTSTAMP:20260423T001501Z
SUMMARY:[männliche D-Jugend Runde] EJW Münchingen  - CVJM Möglingen 
URL:https://www.eichenkreuzliga.de/handball/game/id/11577
DTSTART:20210220T130000
DTEND:20210220T140000
LOCATION:Elisabeth-Selbert-Gymnasium Halle\, 70794 Bernhausen
END:VEVENT
END:VCALENDAR
