BEGIN:VCALENDAR
PRODID:-//eluceo/ical//2.0/EN
VERSION:2.0
CALSCALE:GREGORIAN
BEGIN:VEVENT
UID:1695546ea2ebca935640a8c8a601a22a
DTSTAMP:20260422T224908Z
SUMMARY:[männliche D-Jugend Runde] EK Bernhausen 1 - EJW Münchingen 
URL:https://www.eichenkreuzliga.de/handball/game/id/11579
DTSTART:20210220T140000
DTEND:20210220T150000
LOCATION:Elisabeth-Selbert-Gymnasium Halle\, 70794 Bernhausen
END:VEVENT
END:VCALENDAR
