BEGIN:VCALENDAR
PRODID:-//eluceo/ical//2.0/EN
VERSION:2.0
CALSCALE:GREGORIAN
BEGIN:VEVENT
UID:3c4951fc7c6c2071a5e1e454aa4b5a13
DTSTAMP:20260422T224939Z
SUMMARY:[männliche D-Jugend Runde] CVJM HB Dußlingen-Gomaringen 2 a.K. - 
 EJW Münchingen 
URL:https://www.eichenkreuzliga.de/handball/game/id/11582
DTSTART:20201205T140000
DTEND:20201205T150000
LOCATION:Burgschulhalle\, 73257 Köngen
END:VEVENT
END:VCALENDAR
