BEGIN:VCALENDAR
PRODID:-//eluceo/ical//2.0/EN
VERSION:2.0
CALSCALE:GREGORIAN
BEGIN:VEVENT
UID:3ee9288e7dd83c6477b602d316fc7757
DTSTAMP:20260422T224713Z
SUMMARY:[männliche D-Jugend Runde] EK Köngen  - CVJM HB Dußlingen-Gomari
 ngen 1
URL:https://www.eichenkreuzliga.de/handball/game/id/11583
DTSTART:20201205T130000
DTEND:20201205T140000
LOCATION:Burgschulhalle\, 73257 Köngen
END:VEVENT
END:VCALENDAR
