BEGIN:VCALENDAR
PRODID:-//eluceo/ical//2.0/EN
VERSION:2.0
CALSCALE:GREGORIAN
BEGIN:VEVENT
UID:a07d1e8c3f6d670f821b3d6db827793e
DTSTAMP:20260423T001942Z
SUMMARY:[männliche D-Jugend Runde] EK Köngen  - CVJM HB Dußlingen-Gomari
 ngen 2 a.K.
URL:https://www.eichenkreuzliga.de/handball/game/id/11584
DTSTART:20201205T160000
DTEND:20201205T170000
LOCATION:Burgschulhalle\, 73257 Köngen
END:VEVENT
END:VCALENDAR
