BEGIN:VCALENDAR
PRODID:-//eluceo/ical//2.0/EN
VERSION:2.0
CALSCALE:GREGORIAN
BEGIN:VEVENT
UID:53f74b20eef40e287151b53d45e02007
DTSTAMP:20260422T225042Z
SUMMARY:[männliche D-Jugend Runde] EK Köngen  - CVJM  Walddorfhäslach 
URL:https://www.eichenkreuzliga.de/handball/game/id/11589
DTSTART:20210314T140000
DTEND:20210314T150000
LOCATION:Zeppelinhalle\, 70734 Fellbach
END:VEVENT
END:VCALENDAR
