BEGIN:VCALENDAR
PRODID:-//eluceo/ical//2.0/EN
VERSION:2.0
CALSCALE:GREGORIAN
BEGIN:VEVENT
UID:4f39eef76159fc27df03880fdfd2c6f4
DTSTAMP:20260423T001951Z
SUMMARY:[männliche D-Jugend Runde] CVJM Plochingen  - CVJM HB Dußlingen-G
 omaringen 2 a.K.
URL:https://www.eichenkreuzliga.de/handball/game/id/11594
DTSTART:20210314T151000
DTEND:20210314T161000
LOCATION:Sporthalle Münchingen\, 70825 Korntal-Münchingen
END:VEVENT
END:VCALENDAR
