BEGIN:VCALENDAR
PRODID:-//eluceo/ical//2.0/EN
VERSION:2.0
CALSCALE:GREGORIAN
BEGIN:VEVENT
UID:6971e57c3ad815eff7bcab018650f635
DTSTAMP:20260422T224430Z
SUMMARY:[männliche D-Jugend Runde] CVJM Plochingen  - EK Köngen 
URL:https://www.eichenkreuzliga.de/handball/game/id/11596
DTSTART:20210328T130000
DTEND:20210328T140000
LOCATION:Gymnasiumsporthalle\, 73207 Plochingen
END:VEVENT
END:VCALENDAR
