BEGIN:VCALENDAR
PRODID:-//eluceo/ical//2.0/EN
VERSION:2.0
CALSCALE:GREGORIAN
BEGIN:VEVENT
UID:f842deaf68278a7d6a4678c1ac7db4b2
DTSTAMP:20260423T001949Z
SUMMARY:[männliche D-Jugend Runde] CVJM Plochingen  - EJW Münchingen 
URL:https://www.eichenkreuzliga.de/handball/game/id/11597
DTSTART:20210328T150000
DTEND:20210328T160000
LOCATION:Gymnasiumsporthalle\, 73207 Plochingen
END:VEVENT
END:VCALENDAR
