BEGIN:VCALENDAR
PRODID:-//eluceo/ical//2.0/EN
VERSION:2.0
CALSCALE:GREGORIAN
BEGIN:VEVENT
UID:aa5678d7e4caa559dd63e32ad115f2ef
DTSTAMP:20260422T224642Z
SUMMARY:[männliche D-Jugend Runde] CVJM  Walddorfhäslach  - EK Bernhausen
  1
URL:https://www.eichenkreuzliga.de/handball/game/id/11604
DTSTART:20201212T123000
DTEND:20201212T133000
LOCATION:Ballspielhalle\, 72141 Walddorfhäslach
END:VEVENT
END:VCALENDAR
